BEGIN:VCALENDAR
VERSION:2.0
PRODID:-//EMDR Sverige - ECPv6.15.19//NONSGML v1.0//EN
CALSCALE:GREGORIAN
METHOD:PUBLISH
X-WR-CALNAME:EMDR Sverige
X-ORIGINAL-URL:https://emdr.se
X-WR-CALDESC:Händelser för EMDR Sverige
REFRESH-INTERVAL;VALUE=DURATION:PT1H
X-Robots-Tag:noindex
X-PUBLISHED-TTL:PT1H
BEGIN:VTIMEZONE
TZID:Europe/Stockholm
BEGIN:DAYLIGHT
TZOFFSETFROM:+0100
TZOFFSETTO:+0200
TZNAME:CEST
DTSTART:20250330T010000
END:DAYLIGHT
BEGIN:STANDARD
TZOFFSETFROM:+0200
TZOFFSETTO:+0100
TZNAME:CET
DTSTART:20251026T010000
END:STANDARD
BEGIN:DAYLIGHT
TZOFFSETFROM:+0100
TZOFFSETTO:+0200
TZNAME:CEST
DTSTART:20260329T010000
END:DAYLIGHT
BEGIN:STANDARD
TZOFFSETFROM:+0200
TZOFFSETTO:+0100
TZNAME:CET
DTSTART:20261025T010000
END:STANDARD
BEGIN:DAYLIGHT
TZOFFSETFROM:+0100
TZOFFSETTO:+0200
TZNAME:CEST
DTSTART:20270328T010000
END:DAYLIGHT
BEGIN:STANDARD
TZOFFSETFROM:+0200
TZOFFSETTO:+0100
TZNAME:CET
DTSTART:20271031T010000
END:STANDARD
END:VTIMEZONE
BEGIN:VEVENT
DTSTART;VALUE=DATE:20260527
DTEND;VALUE=DATE:20260530
DTSTAMP:20260421T112444
CREATED:20260213T160944Z
LAST-MODIFIED:20260219T102858Z
UID:14617-1779840000-1780099199@emdr.se
SUMMARY:EMDR 2\, Göteborg
DESCRIPTION:Uppföljningsdag 28/8 2026. Kursarrangör SAPU. \nKlicka här för info och anmälan.
URL:https://emdr.se/utbildning/emdr-2-goteborg-2/
CATEGORIES:Utbildningar EMDR Sverige
END:VEVENT
BEGIN:VEVENT
DTSTART;VALUE=DATE:20260902
DTEND;VALUE=DATE:20260905
DTSTAMP:20260421T112444
CREATED:20260213T161412Z
LAST-MODIFIED:20260331T064333Z
UID:14619-1788307200-1788566399@emdr.se
SUMMARY:EMDR 1\, Göteborg
DESCRIPTION:2-4/9 2026. Uppföljningsdag 9:e oktober. Kursarrangör SAPU. \nKlicka här för info och anmälan.
URL:https://emdr.se/utbildning/emdr-1-goteborg-2/
CATEGORIES:Utbildningar EMDR Sverige
END:VEVENT
BEGIN:VEVENT
DTSTART;VALUE=DATE:20261014
DTEND;VALUE=DATE:20261017
DTSTAMP:20260421T112444
CREATED:20260213T164306Z
LAST-MODIFIED:20260219T150947Z
UID:14638-1791936000-1792195199@emdr.se
SUMMARY:EMDR 1\, Stockholm
DESCRIPTION:14-16/10 2026. Uppföljningsdag 13/11 2026. Kursarrangör SAPU. \nKlicka här för info och anmälan.
URL:https://emdr.se/utbildning/emdr1/
CATEGORIES:Utbildningar EMDR Sverige
END:VEVENT
BEGIN:VEVENT
DTSTART;VALUE=DATE:20261125
DTEND;VALUE=DATE:20261128
DTSTAMP:20260421T112444
CREATED:20260213T164442Z
LAST-MODIFIED:20260219T102534Z
UID:14640-1795564800-1795823999@emdr.se
SUMMARY:EMDR 2\, Stockholm
DESCRIPTION:25-27/11. Uppföljningsdag 29/1 2027. Kursarrangör SAPU.
URL:https://emdr.se/utbildning/emdr2/
CATEGORIES:Utbildningar EMDR Sverige
END:VEVENT
END:VCALENDAR