BEGIN:VCALENDAR
VERSION:2.0
PRODID:-//EMDR Sverige - ECPv6.15.19//NONSGML v1.0//EN
CALSCALE:GREGORIAN
METHOD:PUBLISH
X-WR-CALNAME:EMDR Sverige
X-ORIGINAL-URL:https://emdr.se
X-WR-CALDESC:Händelser för EMDR Sverige
REFRESH-INTERVAL;VALUE=DURATION:PT1H
X-Robots-Tag:noindex
X-PUBLISHED-TTL:PT1H
BEGIN:VTIMEZONE
TZID:Europe/Stockholm
BEGIN:DAYLIGHT
TZOFFSETFROM:+0100
TZOFFSETTO:+0200
TZNAME:CEST
DTSTART:20250330T010000
END:DAYLIGHT
BEGIN:STANDARD
TZOFFSETFROM:+0200
TZOFFSETTO:+0100
TZNAME:CET
DTSTART:20251026T010000
END:STANDARD
BEGIN:DAYLIGHT
TZOFFSETFROM:+0100
TZOFFSETTO:+0200
TZNAME:CEST
DTSTART:20260329T010000
END:DAYLIGHT
BEGIN:STANDARD
TZOFFSETFROM:+0200
TZOFFSETTO:+0100
TZNAME:CET
DTSTART:20261025T010000
END:STANDARD
BEGIN:DAYLIGHT
TZOFFSETFROM:+0100
TZOFFSETTO:+0200
TZNAME:CEST
DTSTART:20270328T010000
END:DAYLIGHT
BEGIN:STANDARD
TZOFFSETFROM:+0200
TZOFFSETTO:+0100
TZNAME:CET
DTSTART:20271031T010000
END:STANDARD
END:VTIMEZONE
BEGIN:VEVENT
DTSTART;VALUE=DATE:20260506
DTEND;VALUE=DATE:20260509
DTSTAMP:20260420T030259
CREATED:20260219T095742Z
LAST-MODIFIED:20260219T151212Z
UID:14832-1778025600-1778284799@emdr.se
SUMMARY:EMDR 2\, Stockholm
DESCRIPTION:Datum 6-8/5 2026. Uppföljningsdag 3/6 2026. Kursarrangör Ericastiftelsen. \n 
URL:https://emdr.se/utbildning/emdr-2-stockholm-5/
CATEGORIES:Utbildningar EMDR Sverige
END:VEVENT
BEGIN:VEVENT
DTSTART;VALUE=DATE:20260527
DTEND;VALUE=DATE:20260530
DTSTAMP:20260420T030259
CREATED:20260213T160944Z
LAST-MODIFIED:20260219T102858Z
UID:14617-1779840000-1780099199@emdr.se
SUMMARY:EMDR 2\, Göteborg
DESCRIPTION:Uppföljningsdag 28/8 2026. Kursarrangör SAPU. \nKlicka här för info och anmälan.
URL:https://emdr.se/utbildning/emdr-2-goteborg-2/
CATEGORIES:Utbildningar EMDR Sverige
END:VEVENT
BEGIN:VEVENT
DTSTART;VALUE=DATE:20260605
DTEND;VALUE=DATE:20260608
DTSTAMP:20260420T030259
CREATED:20260123T101839Z
LAST-MODIFIED:20260123T102255Z
UID:13899-1780617600-1780876799@emdr.se
SUMMARY:EMDR Europe Workshop Conference 2026
DESCRIPTION:Anmälan är nu öppen till EMDR Europe Workshop Conference i Oslo Nova Spektrum i Norge den 5-7 juni. \nKlicka följande länk: emdr2026.com \n 
URL:https://emdr.se/utbildning/emdr-europe-workshop-conference-2026/
LOCATION:NOVA Spektrum\, Oslo\, Messeveien 6\, Lillestrøm\, 2004\, Norway
CATEGORIES:Utbildningar EMDR Internationellt,Utbildningar vi gärna tipsar om
END:VEVENT
BEGIN:VEVENT
DTSTART;VALUE=DATE:20260902
DTEND;VALUE=DATE:20260905
DTSTAMP:20260420T030259
CREATED:20260213T161412Z
LAST-MODIFIED:20260331T064333Z
UID:14619-1788307200-1788566399@emdr.se
SUMMARY:EMDR 1\, Göteborg
DESCRIPTION:2-4/9 2026. Uppföljningsdag 9:e oktober. Kursarrangör SAPU. \nKlicka här för info och anmälan.
URL:https://emdr.se/utbildning/emdr-1-goteborg-2/
CATEGORIES:Utbildningar EMDR Sverige
END:VEVENT
BEGIN:VEVENT
DTSTART;VALUE=DATE:20260909
DTEND;VALUE=DATE:20260912
DTSTAMP:20260420T030259
CREATED:20260213T162149Z
LAST-MODIFIED:20260219T102728Z
UID:14621-1788912000-1789171199@emdr.se
SUMMARY:EMDR 2\, Stockholm
DESCRIPTION:Uppföljningsdag 30/10 2026. Kursarrangör IHPU. \nKlicka här för info och anmälan.
URL:https://emdr.se/utbildning/emdr2-stockholm/
CATEGORIES:Utbildningar EMDR Sverige
END:VEVENT
BEGIN:VEVENT
DTSTART;VALUE=DATE:20260916
DTEND;VALUE=DATE:20260919
DTSTAMP:20260420T030259
CREATED:20260213T163320Z
LAST-MODIFIED:20260219T102624Z
UID:14628-1789516800-1789775999@emdr.se
SUMMARY:EMDR2\, Uppsala
DESCRIPTION:16-18/9 2026\, uppföljningsdag 21/10 2026. Kursarrangör IHPU. \n 
URL:https://emdr.se/utbildning/emdr2-uppsala/
CATEGORIES:Utbildningar EMDR Sverige
END:VEVENT
BEGIN:VEVENT
DTSTART;VALUE=DATE:20260917
DTEND;VALUE=DATE:20260919
DTSTAMP:20260420T030259
CREATED:20260123T103156Z
LAST-MODIFIED:20260219T151710Z
UID:13908-1789603200-1789775999@emdr.se
SUMMARY:EMDR Workshop 17-18 september
DESCRIPTION:Workshop med Roger Solomon – mer information närmare workshopen.\nArrangör: Föreningen EMDR Sverige
URL:https://emdr.se/utbildning/notera-emdr-workshop-17-18-september/
CATEGORIES:Utbildningar EMDR Sverige
ORGANIZER;CN="F%C3%B6reningen EMDR Sverige":MAILTO:info@emdr.se
END:VEVENT
BEGIN:VEVENT
DTSTART;VALUE=DATE:20261007
DTEND;VALUE=DATE:20261010
DTSTAMP:20260420T030259
CREATED:20260213T165134Z
LAST-MODIFIED:20260219T102557Z
UID:14649-1791331200-1791590399@emdr.se
SUMMARY:EMDR 1\, Stockholm
DESCRIPTION:Öppen kurs. Uppföljningsdag 13/11 2026. Kursarrangör IHPU. \nKlicka här för info och anmälan.
URL:https://emdr.se/utbildning/emdr-1-stockholm-5/
CATEGORIES:Utbildningar EMDR Sverige
END:VEVENT
BEGIN:VEVENT
DTSTART;VALUE=DATE:20261014
DTEND;VALUE=DATE:20261017
DTSTAMP:20260420T030259
CREATED:20260213T164306Z
LAST-MODIFIED:20260219T150947Z
UID:14638-1791936000-1792195199@emdr.se
SUMMARY:EMDR 1\, Stockholm
DESCRIPTION:14-16/10 2026. Uppföljningsdag 13/11 2026. Kursarrangör SAPU. \nKlicka här för info och anmälan.
URL:https://emdr.se/utbildning/emdr1/
CATEGORIES:Utbildningar EMDR Sverige
END:VEVENT
BEGIN:VEVENT
DTSTART;VALUE=DATE:20261104
DTEND;VALUE=DATE:20261107
DTSTAMP:20260420T030259
CREATED:20260213T163431Z
LAST-MODIFIED:20260219T102103Z
UID:14630-1793750400-1794009599@emdr.se
SUMMARY:EMDR 2\, Göteborg
DESCRIPTION:Uppföljningsdag 11/12 2026. Kursarrangör IHPU. \nKlicka här för info och anmälan.
URL:https://emdr.se/utbildning/emdr2-goteborg/
CATEGORIES:Utbildningar EMDR Sverige
END:VEVENT
BEGIN:VEVENT
DTSTART;VALUE=DATE:20261119
DTEND;VALUE=DATE:20261121
DTSTAMP:20260420T030259
CREATED:20260331T175920Z
LAST-MODIFIED:20260331T180125Z
UID:16610-1795046400-1795219199@emdr.se
SUMMARY:Handledarutbildning i EMDR 2026-2027 - Uppsala
DESCRIPTION:Kursens omfattning: 2 + 2 + 2 dagar + handledning på handledning\, minimum 20 tim. Anmälan förlängd till 1 maj 2026.\nKursdatum\, med reservation för eventuella ändringar: \n\n19 – 20 november 2026\n5 – 6 februari 2027\n15 – 16 april 2027\n\nSe nedan länkar för:\nKursinformation\nAnsökningsblankett
URL:https://emdr.se/utbildning/handledarutbildning-i-emdr-2026-2027-uppsala/
LOCATION:Uppsala
CATEGORIES:Utbildningar EMDR Sverige
END:VEVENT
BEGIN:VEVENT
DTSTART;VALUE=DATE:20261125
DTEND;VALUE=DATE:20261128
DTSTAMP:20260420T030259
CREATED:20260213T164442Z
LAST-MODIFIED:20260219T102534Z
UID:14640-1795564800-1795823999@emdr.se
SUMMARY:EMDR 2\, Stockholm
DESCRIPTION:25-27/11. Uppföljningsdag 29/1 2027. Kursarrangör SAPU.
URL:https://emdr.se/utbildning/emdr2/
CATEGORIES:Utbildningar EMDR Sverige
END:VEVENT
END:VCALENDAR